BEGIN:VCALENDAR
PRODID:-//Cornell Cooperative Extension of Schoharie and Otsego Counties//NONSGML Cornell Cooperative Extension of Schoharie and Otsego Counties Events//EN
X-ORIGINAL-URL:
VERSION:2.0
CALSCALE:GREGORIAN
METHOD:PUBLISH
BEGIN:VEVENT
METHOD: PUBLISH
X-MS-OLK-FORCEINSPECTOROPEN:TRUE
DTSTART:20260514T180600
DTEND:20260514T200800
SUMMARY:Master Food Preservation Training
DTSTAMP:20110121T170000
LAST-MODIFIED:20260330T121203
CREATED:20260330T121204
SEQUENCE:0
TRANSP:TRANSPARENT
UID:32818
LOCATION:
URL:http://cceschoharie-otsego.org/events/2026/05/14/master-food-preservation-training
DESCRIPTION:
CLASS:PUBLIC
CATEGORIES:
STATUS:CONFIRMED
END:VEVENT
END:VCALENDAR
n/a