BEGIN:VCALENDAR
PRODID:-//Cornell Cooperative Extension of Schoharie and Otsego Counties//NONSGML Cornell Cooperative Extension of Schoharie and Otsego Counties Events//EN
X-ORIGINAL-URL:
VERSION:2.0
CALSCALE:GREGORIAN
METHOD:PUBLISH
BEGIN:VEVENT
METHOD: PUBLISH
X-MS-OLK-FORCEINSPECTOROPEN:TRUE
DTSTART:20260521T180600
DTEND:20260521T190700
SUMMARY:Starting an Herb Garden with Gert Coleman
DTSTAMP:20110121T170000
LAST-MODIFIED:20260330T121259
CREATED:20260330T121259
SEQUENCE:0
TRANSP:TRANSPARENT
UID:32820
LOCATION:
URL:http://cceschoharie-otsego.org/events/2026/05/21/starting-an-herb-garden-with-gert-coleman
DESCRIPTION:Herbs and spices are more than just culinary enhancements or seasonal flowers in the garden. These potent, fragrant plants have earned their rightful places in the home apothecary, bath, and boudoir as well as in many household applications. If you are interested in growing and using herbs, join herbalist Gert Coleman to discover what herbs will grow in your space and sun and what to do with them.Herbal educator, writer, gardener, editor, and herb enthusiast, Gert Coleman loves, grows, eats, and reads avidly about herbs. Retired professor of English, she lives on 100+ acres in Central New York, growing herbs, flowers, trees, and at-risk native plants with her husband and dog. As an herbal educator, she teaches humorous and informative programs for all ages at parks, museums, and conferences; helped maintain a 70&#39; x 70&#39; colonial herb garden for 3 decades; apprenticed with Rosemary Gladstar; compiled and edited five Herb of the Year&amp;trade; books; and writes about the legends, lore, and poetry of herbs.  In addition, she teaches workshops on nature writing in the wild places of New York and beyond.&amp;nbsp;&amp;nbsp;
CLASS:PUBLIC
CATEGORIES:
STATUS:CONFIRMED
END:VEVENT
END:VCALENDAR
n/a